Workbook

Sheet Cómo usarlo
A1: Cuadro de mando comercial para equipos de calle
A3: Gratis y sin registro. Hecho por PuertasFrias · puertasfrias.com
A5: 1. Hoja “Semanas”: una fila por comercial y semana. Borra las filas de ejemplo, que son ficticias.
A6: 2. Rellena solo las columnas blancas: visitas, recibidos, reuniones, propuestas, ventas, importe y kilómetros.
A7: 3. Las columnas grises se calculan solas: tasa de recepción, visitas por reunión y kilómetros por reunión.
A8: 4. Hoja “Objetivos”: pon el objetivo semanal por comercial. El cuadro compara con él.
A9: 5. Hoja “Cuadro”: totales del equipo, embudo y una fila por comercial. En ámbar, lo que queda por debajo del objetivo.
A10: 6. Míralo una vez por semana, el mismo día. Un cuadro de mando sirve para decidir, no para vigilar.
A12: Qué mirar primero: visitas por reunión. Si sube, el problema suele estar en a quién se visita o con qué motivo, no en el esfuerzo.
A13: Los nombres de la hoja de ejemplo son inventados.

Sheet Cuadro
A1: Cuadro de mando comercial
A2: Desde | B2: 46266 | C2: Hasta | D2: 46295 | E2: Cambia las dos fechas amarillas para elegir el periodo.
A4: Embudo del equipo | B4: Total | C4: % sobre el paso anterior
A5: Visitas | B5: =SUMIFS(Semanas!$D$2:$D$501,Semanas!$A$2:$A$501,">="&$B$2,Semanas!$A$2:$A$501,"<="&$D$2)
A6: Recibidos | B6: =SUMIFS(Semanas!$E$2:$E$501,Semanas!$A$2:$A$501,">="&$B$2,Semanas!$A$2:$A$501,"<="&$D$2) | C6: =IF(B5>0,B6/B5,"")
A7: Reuniones agendadas | B7: =SUMIFS(Semanas!$F$2:$F$501,Semanas!$A$2:$A$501,">="&$B$2,Semanas!$A$2:$A$501,"<="&$D$2) | C7: =IF(B6>0,B7/B6,"")
A8: Propuestas | B8: =SUMIFS(Semanas!$G$2:$G$501,Semanas!$A$2:$A$501,">="&$B$2,Semanas!$A$2:$A$501,"<="&$D$2) | C8: =IF(B7>0,B8/B7,"")
A9: Ventas | B9: =SUMIFS(Semanas!$H$2:$H$501,Semanas!$A$2:$A$501,">="&$B$2,Semanas!$A$2:$A$501,"<="&$D$2) | C9: =IF(B8>0,B9/B8,"")
A11: Importe vendido (€) | B11: =SUMIFS(Semanas!$I$2:$I$501,Semanas!$A$2:$A$501,">="&$B$2,Semanas!$A$2:$A$501,"<="&$D$2)
A12: Visitas por reunión | B12: =IF(B7>0,B5/B7,"")
A13: Visitas por venta | B13: =IF(B9>0,B5/B9,"")
A14: Km por reunión | B14: =IF(B7>0,SUMIFS(Semanas!$J$2:$J$501,Semanas!$A$2:$A$501,">="&$B$2,Semanas!$A$2:$A$501,"<="&$D$2)/B7,"")
A15: Importe medio por venta (€) | B15: =IF(B9>0,B11/B9,"")
A17: Por comercial | B17: Semanas con datos | C17: Visitas | D17: Visitas / semana | E17: Objetivo visitas | F17: Reuniones | G17: Reuniones / semana | H17: Objetivo reuniones | I17: Visitas por reunión | J17: Importe vendido (€)
A18: =IF(Objetivos!A2="","",Objetivos!A2) | B18: =IF($A18="","",COUNTIFS(Semanas!$B$2:$B$501,$A18,Semanas!$A$2:$A$501,">="&$B$2,Semanas!$A$2:$A$501,"<="&$D$2)) | C18: =IF($A18="","",SUMIFS(Semanas!$D$2:$D$501,Semanas!$B$2:$B$501,$A18,Semanas!$A$2:$A$501,">="&$B$2,Semanas!$A$2:$A$501,"<="&$D$2)) | D18: =IF(OR($A18="",B18=0),"",C18/B18) | E18: =IF($A18="","",Objetivos!B2) | F18: =IF($A18="","",SUMIFS(Semanas!$F$2:$F$501,Semanas!$B$2:$B$501,$A18,Semanas!$A$2:$A$501,">="&$B$2,Semanas!$A$2:$A$501,"<="&$D$2)) | G18: =IF(OR($A18="",B18=0),"",F18/B18) | H18: =IF($A18="","",Objetivos!C2) | I18: =IF(OR($A18="",F18=0),"",C18/F18) | J18: =IF($A18="","",SUMIFS(Semanas!$I$2:$I$501,Semanas!$B$2:$B$501,$A18,Semanas!$A$2:$A$501,">="&$B$2,Semanas!$A$2:$A$501,"<="&$D$2))
A19: =IF(Objetivos!A3="","",Objetivos!A3) | B19: =IF($A19="","",COUNTIFS(Semanas!$B$2:$B$501,$A19,Semanas!$A$2:$A$501,">="&$B$2,Semanas!$A$2:$A$501,"<="&$D$2)) | C19: =IF($A19="","",SUMIFS(Semanas!$D$2:$D$501,Semanas!$B$2:$B$501,$A19,Semanas!$A$2:$A$501,">="&$B$2,Semanas!$A$2:$A$501,"<="&$D$2)) | D19: =IF(OR($A19="",B19=0),"",C19/B19) | E19: =IF($A19="","",Objetivos!B3) | F19: =IF($A19="","",SUMIFS(Semanas!$F$2:$F$501,Semanas!$B$2:$B$501,$A19,Semanas!$A$2:$A$501,">="&$B$2,Semanas!$A$2:$A$501,"<="&$D$2)) | G19: =IF(OR($A19="",B19=0),"",F19/B19) | H19: =IF($A19="","",Objetivos!C3) | I19: =IF(OR($A19="",F19=0),"",C19/F19) | J19: =IF($A19="","",SUMIFS(Semanas!$I$2:$I$501,Semanas!$B$2:$B$501,$A19,Semanas!$A$2:$A$501,">="&$B$2,Semanas!$A$2:$A$501,"<="&$D$2))
A20: =IF(Objetivos!A4="","",Objetivos!A4) | B20: =IF($A20="","",COUNTIFS(Semanas!$B$2:$B$501,$A20,Semanas!$A$2:$A$501,">="&$B$2,Semanas!$A$2:$A$501,"<="&$D$2)) | C20: =IF($A20="","",SUMIFS(Semanas!$D$2:$D$501,Semanas!$B$2:$B$501,$A20,Semanas!$A$2:$A$501,">="&$B$2,Semanas!$A$2:$A$501,"<="&$D$2)) | D20: =IF(OR($A20="",B20=0),"",C20/B20) | E20: =IF($A20="","",Objetivos!B4) | F20: =IF($A20="","",SUMIFS(Semanas!$F$2:$F$501,Semanas!$B$2:$B$501,$A20,Semanas!$A$2:$A$501,">="&$B$2,Semanas!$A$2:$A$501,"<="&$D$2)) | G20: =IF(OR($A20="",B20=0),"",F20/B20) | H20: =IF($A20="","",Objetivos!C4) | I20: =IF(OR($A20="",F20=0),"",C20/F20) | J20: =IF($A20="","",SUMIFS(Semanas!$I$2:$I$501,Semanas!$B$2:$B$501,$A20,Semanas!$A$2:$A$501,">="&$B$2,Semanas!$A$2:$A$501,"<="&$D$2))
A21: =IF(Objetivos!A5="","",Objetivos!A5) | B21: =IF($A21="","",COUNTIFS(Semanas!$B$2:$B$501,$A21,Semanas!$A$2:$A$501,">="&$B$2,Semanas!$A$2:$A$501,"<="&$D$2)) | C21: =IF($A21="","",SUMIFS(Semanas!$D$2:$D$501,Semanas!$B$2:$B$501,$A21,Semanas!$A$2:$A$501,">="&$B$2,Semanas!$A$2:$A$501,"<="&$D$2)) | D21: =IF(OR($A21="",B21=0),"",C21/B21) | E21: =IF($A21="","",Objetivos!B5) | F21: =IF($A21="","",SUMIFS(Semanas!$F$2:$F$501,Semanas!$B$2:$B$501,$A21,Semanas!$A$2:$A$501,">="&$B$2,Semanas!$A$2:$A$501,"<="&$D$2)) | G21: =IF(OR($A21="",B21=0),"",F21/B21) | H21: =IF($A21="","",Objetivos!C5) | I21: =IF(OR($A21="",F21=0),"",C21/F21) | J21: =IF($A21="","",SUMIFS(Semanas!$I$2:$I$501,Semanas!$B$2:$B$501,$A21,Semanas!$A$2:$A$501,">="&$B$2,Semanas!$A$2:$A$501,"<="&$D$2))
A22: =IF(Objetivos!A6="","",Objetivos!A6) | B22: =IF($A22="","",COUNTIFS(Semanas!$B$2:$B$501,$A22,Semanas!$A$2:$A$501,">="&$B$2,Semanas!$A$2:$A$501,"<="&$D$2)) | C22: =IF($A22="","",SUMIFS(Semanas!$D$2:$D$501,Semanas!$B$2:$B$501,$A22,Semanas!$A$2:$A$501,">="&$B$2,Semanas!$A$2:$A$501,"<="&$D$2)) | D22: =IF(OR($A22="",B22=0),"",C22/B22) | E22: =IF($A22="","",Objetivos!B6) | F22: =IF($A22="","",SUMIFS(Semanas!$F$2:$F$501,Semanas!$B$2:$B$501,$A22,Semanas!$A$2:$A$501,">="&$B$2,Semanas!$A$2:$A$501,"<="&$D$2)) | G22: =IF(OR($A22="",B22=0),"",F22/B22) | H22: =IF($A22="","",Objetivos!C6) | I22: =IF(OR($A22="",F22=0),"",C22/F22) | J22: =IF($A22="","",SUMIFS(Semanas!$I$2:$I$501,Semanas!$B$2:$B$501,$A22,Semanas!$A$2:$A$501,">="&$B$2,Semanas!$A$2:$A$501,"<="&$D$2))
A23: =IF(Objetivos!A7="","",Objetivos!A7) | B23: =IF($A23="","",COUNTIFS(Semanas!$B$2:$B$501,$A23,Semanas!$A$2:$A$501,">="&$B$2,Semanas!$A$2:$A$501,"<="&$D$2)) | C23: =IF($A23="","",SUMIFS(Semanas!$D$2:$D$501,Semanas!$B$2:$B$501,$A23,Semanas!$A$2:$A$501,">="&$B$2,Semanas!$A$2:$A$501,"<="&$D$2)) | D23: =IF(OR($A23="",B23=0),"",C23/B23) | E23: =IF($A23="","",Objetivos!B7) | F23: =IF($A23="","",SUMIFS(Semanas!$F$2:$F$501,Semanas!$B$2:$B$501,$A23,Semanas!$A$2:$A$501,">="&$B$2,Semanas!$A$2:$A$501,"<="&$D$2)) | G23: =IF(OR($A23="",B23=0),"",F23/B23) | H23: =IF($A23="","",Objetivos!C7) | I23: =IF(OR($A23="",F23=0),"",C23/F23) | J23: =IF($A23="","",SUMIFS(Semanas!$I$2:$I$501,Semanas!$B$2:$B$501,$A23,Semanas!$A$2:$A$501,">="&$B$2,Semanas!$A$2:$A$501,"<="&$D$2))
A24: =IF(Objetivos!A8="","",Objetivos!A8) | B24: =IF($A24="","",COUNTIFS(Semanas!$B$2:$B$501,$A24,Semanas!$A$2:$A$501,">="&$B$2,Semanas!$A$2:$A$501,"<="&$D$2)) | C24: =IF($A24="","",SUMIFS(Semanas!$D$2:$D$501,Semanas!$B$2:$B$501,$A24,Semanas!$A$2:$A$501,">="&$B$2,Semanas!$A$2:$A$501,"<="&$D$2)) | D24: =IF(OR($A24="",B24=0),"",C24/B24) | E24: =IF($A24="","",Objetivos!B8) | F24: =IF($A24="","",SUMIFS(Semanas!$F$2:$F$501,Semanas!$B$2:$B$501,$A24,Semanas!$A$2:$A$501,">="&$B$2,Semanas!$A$2:$A$501,"<="&$D$2)) | G24: =IF(OR($A24="",B24=0),"",F24/B24) | H24: =IF($A24="","",Objetivos!C8) | I24: =IF(OR($A24="",F24=0),"",C24/F24) | J24: =IF($A24="","",SUMIFS(Semanas!$I$2:$I$501,Semanas!$B$2:$B$501,$A24,Semanas!$A$2:$A$501,">="&$B$2,Semanas!$A$2:$A$501,"<="&$D$2))
A25: =IF(Objetivos!A9="","",Objetivos!A9) | B25: =IF($A25="","",COUNTIFS(Semanas!$B$2:$B$501,$A25,Semanas!$A$2:$A$501,">="&$B$2,Semanas!$A$2:$A$501,"<="&$D$2)) | C25: =IF($A25="","",SUMIFS(Semanas!$D$2:$D$501,Semanas!$B$2:$B$501,$A25,Semanas!$A$2:$A$501,">="&$B$2,Semanas!$A$2:$A$501,"<="&$D$2)) | D25: =IF(OR($A25="",B25=0),"",C25/B25) | E25: =IF($A25="","",Objetivos!B9) | F25: =IF($A25="","",SUMIFS(Semanas!$F$2:$F$501,Semanas!$B$2:$B$501,$A25,Semanas!$A$2:$A$501,">="&$B$2,Semanas!$A$2:$A$501,"<="&$D$2)) | G25: =IF(OR($A25="",B25=0),"",F25/B25) | H25: =IF($A25="","",Objetivos!C9) | I25: =IF(OR($A25="",F25=0),"",C25/F25) | J25: =IF($A25="","",SUMIFS(Semanas!$I$2:$I$501,Semanas!$B$2:$B$501,$A25,Semanas!$A$2:$A$501,">="&$B$2,Semanas!$A$2:$A$501,"<="&$D$2))
A26: =IF(Objetivos!A10="","",Objetivos!A10) | B26: =IF($A26="","",COUNTIFS(Semanas!$B$2:$B$501,$A26,Semanas!$A$2:$A$501,">="&$B$2,Semanas!$A$2:$A$501,"<="&$D$2)) | C26: =IF($A26="","",SUMIFS(Semanas!$D$2:$D$501,Semanas!$B$2:$B$501,$A26,Semanas!$A$2:$A$501,">="&$B$2,Semanas!$A$2:$A$501,"<="&$D$2)) | D26: =IF(OR($A26="",B26=0),"",C26/B26) | E26: =IF($A26="","",Objetivos!B10) | F26: =IF($A26="","",SUMIFS(Semanas!$F$2:$F$501,Semanas!$B$2:$B$501,$A26,Semanas!$A$2:$A$501,">="&$B$2,Semanas!$A$2:$A$501,"<="&$D$2)) | G26: =IF(OR($A26="",B26=0),"",F26/B26) | H26: =IF($A26="","",Objetivos!C10) | I26: =IF(OR($A26="",F26=0),"",C26/F26) | J26: =IF($A26="","",SUMIFS(Semanas!$I$2:$I$501,Semanas!$B$2:$B$501,$A26,Semanas!$A$2:$A$501,">="&$B$2,Semanas!$A$2:$A$501,"<="&$D$2))
A27: =IF(Objetivos!A11="","",Objetivos!A11) | B27: =IF($A27="","",COUNTIFS(Semanas!$B$2:$B$501,$A27,Semanas!$A$2:$A$501,">="&$B$2,Semanas!$A$2:$A$501,"<="&$D$2)) | C27: =IF($A27="","",SUMIFS(Semanas!$D$2:$D$501,Semanas!$B$2:$B$501,$A27,Semanas!$A$2:$A$501,">="&$B$2,Semanas!$A$2:$A$501,"<="&$D$2)) | D27: =IF(OR($A27="",B27=0),"",C27/B27) | E27: =IF($A27="","",Objetivos!B11) | F27: =IF($A27="","",SUMIFS(Semanas!$F$2:$F$501,Semanas!$B$2:$B$501,$A27,Semanas!$A$2:$A$501,">="&$B$2,Semanas!$A$2:$A$501,"<="&$D$2)) | G27: =IF(OR($A27="",B27=0),"",F27/B27) | H27: =IF($A27="","",Objetivos!C11) | I27: =IF(OR($A27="",F27=0),"",C27/F27) | J27: =IF($A27="","",SUMIFS(Semanas!$I$2:$I$501,Semanas!$B$2:$B$501,$A27,Semanas!$A$2:$A$501,">="&$B$2,Semanas!$A$2:$A$501,"<="&$D$2))
A28: =IF(Objetivos!A12="","",Objetivos!A12) | B28: =IF($A28="","",COUNTIFS(Semanas!$B$2:$B$501,$A28,Semanas!$A$2:$A$501,">="&$B$2,Semanas!$A$2:$A$501,"<="&$D$2)) | C28: =IF($A28="","",SUMIFS(Semanas!$D$2:$D$501,Semanas!$B$2:$B$501,$A28,Semanas!$A$2:$A$501,">="&$B$2,Semanas!$A$2:$A$501,"<="&$D$2)) | D28: =IF(OR($A28="",B28=0),"",C28/B28) | E28: =IF($A28="","",Objetivos!B12) | F28: =IF($A28="","",SUMIFS(Semanas!$F$2:$F$501,Semanas!$B$2:$B$501,$A28,Semanas!$A$2:$A$501,">="&$B$2,Semanas!$A$2:$A$501,"<="&$D$2)) | G28: =IF(OR($A28="",B28=0),"",F28/B28) | H28: =IF($A28="","",Objetivos!C12) | I28: =IF(OR($A28="",F28=0),"",C28/F28) | J28: =IF($A28="","",SUMIFS(Semanas!$I$2:$I$501,Semanas!$B$2:$B$501,$A28,Semanas!$A$2:$A$501,">="&$B$2,Semanas!$A$2:$A$501,"<="&$D$2))
A29: =IF(Objetivos!A13="","",Objetivos!A13) | B29: =IF($A29="","",COUNTIFS(Semanas!$B$2:$B$501,$A29,Semanas!$A$2:$A$501,">="&$B$2,Semanas!$A$2:$A$501,"<="&$D$2)) | C29: =IF($A29="","",SUMIFS(Semanas!$D$2:$D$501,Semanas!$B$2:$B$501,$A29,Semanas!$A$2:$A$501,">="&$B$2,Semanas!$A$2:$A$501,"<="&$D$2)) | D29: =IF(OR($A29="",B29=0),"",C29/B29) | E29: =IF($A29="","",Objetivos!B13) | F29: =IF($A29="","",SUMIFS(Semanas!$F$2:$F$501,Semanas!$B$2:$B$501,$A29,Semanas!$A$2:$A$501,">="&$B$2,Semanas!$A$2:$A$501,"<="&$D$2)) | G29: =IF(OR($A29="",B29=0),"",F29/B29) | H29: =IF($A29="","",Objetivos!C13) | I29: =IF(OR($A29="",F29=0),"",C29/F29) | J29: =IF($A29="","",SUMIFS(Semanas!$I$2:$I$501,Semanas!$B$2:$B$501,$A29,Semanas!$A$2:$A$501,">="&$B$2,Semanas!$A$2:$A$501,"<="&$D$2))
... A32: =IF(Objetivos!A16="","",Objetivos!A16) | B32: =IF($A32="","",COUNTIFS(Semanas!$B$2:$B$501,$A32,Semanas!$A$2:$A$501,">="&$B$2,Semanas!$A$2:$A$501,"<="&$D$2)) | C32: =IF($A32="","",SUMIFS(Semanas!$D$2:$D$501,Semanas!$B$2:$B$501,$A32,Semanas!$A$2:$A$501,">="&$B$2,Semanas!$A$2:$A$501,"<="&$D$2)) | D32: =IF(OR($A32="",B32=0),"",C32/B32) | E32: =IF($A32="","",Objetivos!B16) | F32: =IF($A32="","",SUMIFS(Semanas!$F$2:$F$501,Semanas!$B$2:$B$501,$A32,Semanas!$A$2:$A$501,">="&$B$2,Semanas!$A$2:$A$501,"<="&$D$2)) | G32: =IF(OR($A32="",B32=0),"",F32/B32) | H32: =IF($A32="","",Objetivos!C16) | I32: =IF(OR($A32="",F32=0),"",C32/F32) | J32: =IF($A32="","",SUMIFS(Semanas!$I$2:$I$501,Semanas!$B$2:$B$501,$A32,Semanas!$A$2:$A$501,">="&$B$2,Semanas!$A$2:$A$501,"<="&$D$2))

Sheet Semanas
A1: Semana (lunes) | B1: Comercial | C1: Zona | D1: Visitas | E1: Recibidos | F1: Reuniones agendadas | G1: Propuestas | H1: Ventas | I1: Importe vendido (€) | J1: Km | K1: Tasa de recepción | L1: Visitas por reunión | M1: Km por reunión
A2: 46272 | B2: Ana | C2: Corredor del Henares | D2: 28 | E2: 15 | F2: 4 | G2: 2 | H2: 1 | I2: 4200 | J2: 310 | K2: =IF(D2>0,E2/D2,"") | L2: =IF(F2>0,D2/F2,"") | M2: =IF(F2>0,J2/F2,"")
A3: 46272 | B3: Luis | C3: Vallès Occidental | D3: 22 | E3: 9 | F3: 2 | G3: 1 | H3: 0 | I3: 0 | J3: 260 | K3: =IF(D3>0,E3/D3,"") | L3: =IF(F3>0,D3/F3,"") | M3: =IF(F3>0,J3/F3,"")
A4: 46279 | B4: Ana | C4: Corredor del Henares | D4: 30 | E4: 17 | F4: 5 | G4: 2 | H4: 0 | I4: 0 | J4: 295 | K4: =IF(D4>0,E4/D4,"") | L4: =IF(F4>0,D4/F4,"") | M4: =IF(F4>0,J4/F4,"")
A5: 46279 | B5: Luis | C5: Vallès Occidental | D5: 25 | E5: 12 | F5: 3 | G5: 2 | H5: 1 | I5: 2900 | J5: 240 | K5: =IF(D5>0,E5/D5,"") | L5: =IF(F5>0,D5/F5,"") | M5: =IF(F5>0,J5/F5,"")
K6: =IF(D6>0,E6/D6,"") | L6: =IF(F6>0,D6/F6,"") | M6: =IF(F6>0,J6/F6,"")
K7: =IF(D7>0,E7/D7,"") | L7: =IF(F7>0,D7/F7,"") | M7: =IF(F7>0,J7/F7,"")
K8: =IF(D8>0,E8/D8,"") | L8: =IF(F8>0,D8/F8,"") | M8: =IF(F8>0,J8/F8,"")
K9: =IF(D9>0,E9/D9,"") | L9: =IF(F9>0,D9/F9,"") | M9: =IF(F9>0,J9/F9,"")
K10: =IF(D10>0,E10/D10,"") | L10: =IF(F10>0,D10/F10,"") | M10: =IF(F10>0,J10/F10,"")
K11: =IF(D11>0,E11/D11,"") | L11: =IF(F11>0,D11/F11,"") | M11: =IF(F11>0,J11/F11,"")
K12: =IF(D12>0,E12/D12,"") | L12: =IF(F12>0,D12/F12,"") | M12: =IF(F12>0,J12/F12,"")
K13: =IF(D13>0,E13/D13,"") | L13: =IF(F13>0,D13/F13,"") | M13: =IF(F13>0,J13/F13,"")
K14: =IF(D14>0,E14/D14,"") | L14: =IF(F14>0,D14/F14,"") | M14: =IF(F14>0,J14/F14,"")
K15: =IF(D15>0,E15/D15,"") | L15: =IF(F15>0,D15/F15,"") | M15: =IF(F15>0,J15/F15,"")
K16: =IF(D16>0,E16/D16,"") | L16: =IF(F16>0,D16/F16,"") | M16: =IF(F16>0,J16/F16,"")
K17: =IF(D17>0,E17/D17,"") | L17: =IF(F17>0,D17/F17,"") | M17: =IF(F17>0,J17/F17,"")
... K501: =IF(D501>0,E501/D501,"") | L501: =IF(F501>0,D501/F501,"") | M501: =IF(F501>0,J501/F501,"")

Sheet Objetivos
A1: Comercial | B1: Visitas por semana | C1: Reuniones por semana | D1: Ventas por mes (€)
A2: Ana | B2: 30 | C2: 4 | D2: 12000
A3: Luis | B3: 30 | C3: 4 | D3: 12000
